{
 "currentVersion": 10.91,
 "serviceDescription": "Aerial Photos mosaic circa 1941",
 "name": "AirPhoto/PoolAerial1941",
 "description": "Aerial Photos mosaic circa 1941",
 "extent": {
  "xmin": 682165.0334573508,
  "ymin": 474084.13678052573,
  "xmax": 789949.068863991,
  "ymax": 537190.64545203,
  "spatialReference": {
   "wkid": 103470,
   "latestWkid": 103470
  }
 },
 "initialExtent": {
  "xmin": 682165.0334573508,
  "ymin": 474084.13678052573,
  "xmax": 789949.068863991,
  "ymax": 537190.64545203,
  "spatialReference": {
   "wkid": 103470,
   "latestWkid": 103470
  }
 },
 "fullExtent": {
  "xmin": 682165.0334573508,
  "ymin": 474084.13678052573,
  "xmax": 789949.068863991,
  "ymax": 537190.64545203,
  "spatialReference": {
   "wkid": 103470,
   "latestWkid": 103470
  }
 },
 "pixelSizeX": 5.081276419321146,
 "pixelSizeY": 5.098691821241356,
 "bandCount": 3,
 "pixelType": "U8",
 "minPixelSize": 0,
 "maxPixelSize": 0,
 "copyrightText": "",
 "serviceDataType": "esriImageServiceDataTypeThematic",
 "minValues": [],
 "maxValues": [],
 "meanValues": [],
 "stdvValues": [],
 "objectIdField": "",
 "fields": [],
 "capabilities": "Image,Metadata,Mensuration",
 "defaultMosaicMethod": "Center",
 "allowedMosaicMethods": "",
 "sortField": "",
 "sortValue": null,
 "sortAscending": true,
 "mosaicOperator": "First",
 "defaultCompressionQuality": 75,
 "defaultResamplingMethod": "Bilinear",
 "maxImageHeight": 4100,
 "maxImageWidth": 15000,
 "allowRasterFunction": true,
 "rasterFunctionInfos": [
  {
   "name": "None",
   "description": "",
   "help": ""
  }
 ],
 "rasterTypeInfos": [
  {
   "name": "Raster Dataset",
   "description": "Supports all ArcGIS Raster Datasets",
   "help": ""
  }
 ],
 "mensurationCapabilities": "Basic",
 "hasHistograms": false,
 "hasColormap": false,
 "hasRasterAttributeTable": false,
 "minScale": 0,
 "maxScale": 0,
 "exportTilesAllowed": false,
 "hasMultidimensions": false,
 "supportsStatistics": false,
 "supportsAdvancedQueries": false,
 "editFieldsInfo": null,
 "ownershipBasedAccessControlForRasters": null,
 "allowComputeTiePoints": false,
 "useStandardizedQueries": true,
 "advancedQueryCapabilities": {
  "useStandardizedQueries": true,
  "supportsStatistics": false,
  "supportsOrderBy": false,
  "supportsDistinct": false,
  "supportsPagination": false
 },
 "spatialReference": {
  "wkid": 103470,
  "latestWkid": 103470
 }
}
