{
 "currentVersion": 10.91,
 "serviceDescription": "1957 digital black and white photography for Winnebago County, Wisconsin. This was flown by the Coloramic Aerial Survey Corp with subcontractor Woltz Studios, Inc. The flying was completed in 8-13-1957. The negatives were later scanned by USDA at approximately 2000 dpi. After Winnebago County purchased the scanned images Ayres Associates georeferenced in photography in 2022.",
 "name": "AirPhoto/WinnebagoCo1957",
 "description": "1957 digital black and white photography for Winnebago County, Wisconsin. This was flown by the Coloramic Aerial Survey Corp with subcontractor Woltz Studios, Inc. The flying was completed in 8-13-1957. The negatives were later scanned by USDA at approximately 2000 dpi. After Winnebago County purchased the scanned images Ayres Associates georeferenced in photography in 2022.",
 "extent": {
  "xmin": 700690.2251,
  "ymin": 422009.4473,
  "xmax": 839419.2251,
  "ymax": 558595.4473,
  "spatialReference": {
   "wkt": "PROJCS[\"NAD_1983_2011_WISCRS_Calumet_Fond_du_Lac_Outagamie_and_Winnebago_ftUS\",GEOGCS[\"GCS_NAD83_2011\",DATUM[\"D_NAD83_National_Spatial_Reference_System_2011\",SPHEROID[\"GRS_1980\",6378137.0,298.257222101]],PRIMEM[\"Greenwich\",0.0],UNIT[\"Degree\",0.0174532925199433]],PROJECTION[\"Transverse_Mercator\"],PARAMETER[\"false_easting\",802999.999],PARAMETER[\"false_northing\",0.016],PARAMETER[\"central_meridian\",-88.5],PARAMETER[\"scale_factor\",1.0000286569],PARAMETER[\"latitude_of_origin\",42.71944444444445],UNIT[\"Foot_US\",0.3048006096012192]]"
  }
 },
 "initialExtent": {
  "xmin": 700690.2251,
  "ymin": 422009.4473,
  "xmax": 839419.2251,
  "ymax": 558595.4473,
  "spatialReference": {
   "wkt": "PROJCS[\"NAD_1983_2011_WISCRS_Calumet_Fond_du_Lac_Outagamie_and_Winnebago_ftUS\",GEOGCS[\"GCS_NAD83_2011\",DATUM[\"D_NAD83_National_Spatial_Reference_System_2011\",SPHEROID[\"GRS_1980\",6378137.0,298.257222101]],PRIMEM[\"Greenwich\",0.0],UNIT[\"Degree\",0.0174532925199433]],PROJECTION[\"Transverse_Mercator\"],PARAMETER[\"false_easting\",802999.999],PARAMETER[\"false_northing\",0.016],PARAMETER[\"central_meridian\",-88.5],PARAMETER[\"scale_factor\",1.0000286569],PARAMETER[\"latitude_of_origin\",42.71944444444445],UNIT[\"Foot_US\",0.3048006096012192]]"
  }
 },
 "fullExtent": {
  "xmin": 700690.2251,
  "ymin": 422009.4473,
  "xmax": 839419.2251,
  "ymax": 558595.4473,
  "spatialReference": {
   "wkt": "PROJCS[\"NAD_1983_2011_WISCRS_Calumet_Fond_du_Lac_Outagamie_and_Winnebago_ftUS\",GEOGCS[\"GCS_NAD83_2011\",DATUM[\"D_NAD83_National_Spatial_Reference_System_2011\",SPHEROID[\"GRS_1980\",6378137.0,298.257222101]],PRIMEM[\"Greenwich\",0.0],UNIT[\"Degree\",0.0174532925199433]],PROJECTION[\"Transverse_Mercator\"],PARAMETER[\"false_easting\",802999.999],PARAMETER[\"false_northing\",0.016],PARAMETER[\"central_meridian\",-88.5],PARAMETER[\"scale_factor\",1.0000286569],PARAMETER[\"latitude_of_origin\",42.71944444444445],UNIT[\"Foot_US\",0.3048006096012192]]"
  }
 },
 "pixelSizeX": 1,
 "pixelSizeY": 1,
 "bandCount": 3,
 "pixelType": "U8",
 "minPixelSize": 0,
 "maxPixelSize": 0,
 "copyrightText": "USDA | Winnebago County",
 "serviceDataType": "esriImageServiceDataTypeRGB",
 "minValues": [],
 "maxValues": [],
 "meanValues": [],
 "stdvValues": [],
 "objectIdField": "",
 "fields": [],
 "capabilities": "Mensuration,Image,Metadata",
 "defaultMosaicMethod": "Center",
 "allowedMosaicMethods": "",
 "sortField": "",
 "sortValue": null,
 "sortAscending": true,
 "mosaicOperator": "First",
 "defaultCompressionQuality": 75,
 "defaultResamplingMethod": "Bilinear",
 "maxImageHeight": 4100,
 "maxImageWidth": 15000,
 "allowRasterFunction": true,
 "rasterFunctionInfos": [
  {
   "name": "None",
   "description": "",
   "help": ""
  }
 ],
 "rasterTypeInfos": [
  {
   "name": "Raster Dataset",
   "description": "Supports all ArcGIS Raster Datasets",
   "help": ""
  }
 ],
 "mensurationCapabilities": "Basic",
 "hasHistograms": false,
 "hasColormap": false,
 "hasRasterAttributeTable": false,
 "minScale": 0,
 "maxScale": 0,
 "exportTilesAllowed": false,
 "hasMultidimensions": false,
 "supportsStatistics": false,
 "supportsAdvancedQueries": false,
 "editFieldsInfo": null,
 "ownershipBasedAccessControlForRasters": null,
 "allowComputeTiePoints": false,
 "useStandardizedQueries": true,
 "advancedQueryCapabilities": {
  "useStandardizedQueries": true,
  "supportsStatistics": false,
  "supportsOrderBy": false,
  "supportsDistinct": false,
  "supportsPagination": false
 },
 "spatialReference": {
  "wkt": "PROJCS[\"NAD_1983_2011_WISCRS_Calumet_Fond_du_Lac_Outagamie_and_Winnebago_ftUS\",GEOGCS[\"GCS_NAD83_2011\",DATUM[\"D_NAD83_National_Spatial_Reference_System_2011\",SPHEROID[\"GRS_1980\",6378137.0,298.257222101]],PRIMEM[\"Greenwich\",0.0],UNIT[\"Degree\",0.0174532925199433]],PROJECTION[\"Transverse_Mercator\"],PARAMETER[\"false_easting\",802999.999],PARAMETER[\"false_northing\",0.016],PARAMETER[\"central_meridian\",-88.5],PARAMETER[\"scale_factor\",1.0000286569],PARAMETER[\"latitude_of_origin\",42.71944444444445],UNIT[\"Foot_US\",0.3048006096012192]]"
 }
}
