{
 "currentVersion": 10.91,
 "serviceDescription": "NRCS imagery from the spring of 1976.",
 "name": "AirPhoto/WinnebagoCo1976",
 "description": "NRCS imagery from the spring of 1976.",
 "extent": {
  "xmin": 696801.967994079,
  "ymin": 415422.9072662483,
  "xmax": 846985.3946607455,
  "ymax": 572627.3172662482,
  "spatialReference": {
   "wkid": 103470,
   "latestWkid": 103470
  }
 },
 "initialExtent": {
  "xmin": 696801.967994079,
  "ymin": 415422.9072662483,
  "xmax": 846985.3946607455,
  "ymax": 572627.3172662482,
  "spatialReference": {
   "wkid": 103470,
   "latestWkid": 103470
  }
 },
 "fullExtent": {
  "xmin": 696801.967994079,
  "ymin": 415422.9072662483,
  "xmax": 846985.3946607455,
  "ymax": 572627.3172662482,
  "spatialReference": {
   "wkid": 103470,
   "latestWkid": 103470
  }
 },
 "pixelSizeX": 3.28083333333333,
 "pixelSizeY": 3.28083333333333,
 "bandCount": 3,
 "pixelType": "U8",
 "minPixelSize": 0,
 "maxPixelSize": 0,
 "copyrightText": "NRCS Spring, 1976",
 "serviceDataType": "esriImageServiceDataTypeRGB",
 "minValues": [],
 "maxValues": [],
 "meanValues": [],
 "stdvValues": [],
 "objectIdField": "",
 "fields": [],
 "capabilities": "Image,Metadata,Mensuration",
 "defaultMosaicMethod": "Center",
 "allowedMosaicMethods": "",
 "sortField": "",
 "sortValue": null,
 "sortAscending": true,
 "mosaicOperator": "First",
 "defaultCompressionQuality": 75,
 "defaultResamplingMethod": "Bilinear",
 "maxImageHeight": 4100,
 "maxImageWidth": 15000,
 "allowRasterFunction": true,
 "rasterFunctionInfos": [
  {
   "name": "None",
   "description": "",
   "help": ""
  }
 ],
 "rasterTypeInfos": [
  {
   "name": "Raster Dataset",
   "description": "Supports all ArcGIS Raster Datasets",
   "help": ""
  }
 ],
 "mensurationCapabilities": "Basic",
 "hasHistograms": false,
 "hasColormap": false,
 "hasRasterAttributeTable": false,
 "minScale": 0,
 "maxScale": 0,
 "exportTilesAllowed": false,
 "hasMultidimensions": false,
 "supportsStatistics": false,
 "supportsAdvancedQueries": false,
 "editFieldsInfo": null,
 "ownershipBasedAccessControlForRasters": null,
 "allowComputeTiePoints": false,
 "useStandardizedQueries": true,
 "advancedQueryCapabilities": {
  "useStandardizedQueries": true,
  "supportsStatistics": false,
  "supportsOrderBy": false,
  "supportsDistinct": false,
  "supportsPagination": false
 },
 "spatialReference": {
  "wkid": 103470,
  "latestWkid": 103470
 }
}
