<?xml version="1.0" encoding="UTF-8" standalone="no"?>
<metadata xml:lang="en">
<Esri>
<CreaDate>20231101</CreaDate>
<CreaTime>14322500</CreaTime>
<ArcGISFormat>1.0</ArcGISFormat>
<ArcGISstyle>FGDC CSDGM Metadata</ArcGISstyle>
<SyncOnce>FALSE</SyncOnce>
<DataProperties>
<itemProps>
<itemName Sync="TRUE">Winnebago_Co_1981.sid</itemName>
<imsContentType Sync="TRUE" export="False">002</imsContentType>
<nativeExtBox>
<westBL Sync="TRUE">700703.629035</westBL>
<eastBL Sync="TRUE">828333.095922</eastBL>
<southBL Sync="TRUE">422022.287330</southBL>
<northBL Sync="TRUE">558517.617290</northBL>
<exTypeCode Sync="TRUE">1</exTypeCode>
</nativeExtBox>
</itemProps>
<coordRef>
<type Sync="TRUE">Projected</type>
<geogcsn Sync="TRUE">GCS_NAD83_2011</geogcsn>
<csUnits Sync="TRUE">Linear Unit: Foot_US (0.304801)</csUnits>
<projcsn Sync="TRUE">NAD_1983_2011_WISCRS_Calumet_Fond_du_Lac_Outagamie_Winnebago_Feet</projcsn>
<peXml Sync="TRUE">&lt;ProjectedCoordinateSystem xsi:type='typens:ProjectedCoordinateSystem' xmlns:xsi='http://www.w3.org/2001/XMLSchema-instance' xmlns:xs='http://www.w3.org/2001/XMLSchema' xmlns:typens='http://www.esri.com/schemas/ArcGIS/10.8'&gt;&lt;WKT&gt;PROJCS[&amp;quot;NAD_1983_2011_WISCRS_Calumet_Fond_du_Lac_Outagamie_Winnebago_Feet&amp;quot;,GEOGCS[&amp;quot;GCS_NAD83_2011&amp;quot;,DATUM[&amp;quot;D_NAD83_National_Spatial_Reference_System_2011&amp;quot;,SPHEROID[&amp;quot;GRS_1980&amp;quot;,6378137.0,298.257222101]],PRIMEM[&amp;quot;Greenwich&amp;quot;,0.0],UNIT[&amp;quot;Degree&amp;quot;,0.0174532925199433]],PROJECTION[&amp;quot;Transverse_Mercator&amp;quot;],PARAMETER[&amp;quot;false_easting&amp;quot;,802999.999],PARAMETER[&amp;quot;false_northing&amp;quot;,0.016],PARAMETER[&amp;quot;central_meridian&amp;quot;,-88.5],PARAMETER[&amp;quot;scale_factor&amp;quot;,1.0000286569],PARAMETER[&amp;quot;latitude_of_origin&amp;quot;,42.71944444444445],UNIT[&amp;quot;Foot_US&amp;quot;,0.3048006096012192]],VERTCS[&amp;quot;VCS Name = NAVD88 height - Geoid12B (ftUS)|Datum Name = North American Vertical&amp;quot;,VDATUM[&amp;quot;North American Vertical Datum 1988&amp;quot;],PARAMETER[&amp;quot;Vertical_Shift&amp;quot;,0.0],PARAMETER[&amp;quot;Direction&amp;quot;,1.0],UNIT[&amp;quot;US survey foot&amp;quot;,0.3048006096012192]]&lt;/WKT&gt;&lt;XOrigin&gt;-17646100&lt;/XOrigin&gt;&lt;YOrigin&gt;-48340000&lt;/YOrigin&gt;&lt;XYScale&gt;137237503.15761152&lt;/XYScale&gt;&lt;ZOrigin&gt;-100000&lt;/ZOrigin&gt;&lt;ZScale&gt;3048.0060960121918&lt;/ZScale&gt;&lt;MOrigin&gt;-100000&lt;/MOrigin&gt;&lt;MScale&gt;10000&lt;/MScale&gt;&lt;XYTolerance&gt;0.0032808333333333331&lt;/XYTolerance&gt;&lt;ZTolerance&gt;0.0032808333333333335&lt;/ZTolerance&gt;&lt;MTolerance&gt;0.001&lt;/MTolerance&gt;&lt;HighPrecision&gt;true&lt;/HighPrecision&gt;&lt;/ProjectedCoordinateSystem&gt;</peXml>
</coordRef>
<RasterProperties>
<General>
<PixelDepth Sync="TRUE">8</PixelDepth>
<HasColormap Sync="TRUE">FALSE</HasColormap>
<CompressionType Sync="TRUE">Wavelet (MG3)</CompressionType>
<NumBands Sync="TRUE">1</NumBands>
<Format Sync="TRUE">MrSID</Format>
<HasPyramids Sync="TRUE">TRUE</HasPyramids>
<SourceType Sync="TRUE">continuous</SourceType>
<PixelType Sync="TRUE">unsigned integer</PixelType>
<NoDataValue Sync="TRUE">
</NoDataValue>
</General>
</RasterProperties>
</DataProperties>
<SyncDate>20231110</SyncDate>
<SyncTime>14263000</SyncTime>
<ModDate>20231110</ModDate>
<ModTime>14263000</ModTime>
<scaleRange>
<minScale>150000000</minScale>
<maxScale>5000</maxScale>
</scaleRange>
<ArcGISProfile>FGDC</ArcGISProfile>
</Esri>
<dataIdInfo>
<envirDesc Sync="TRUE"> Version 6.2 (Build 9200) ; Esri ArcGIS 10.8.1.14362</envirDesc>
<dataLang>
<languageCode Sync="TRUE" value="eng">
</languageCode>
<countryCode Sync="TRUE" value="USA">
</countryCode>
</dataLang>
<idCitation>
<resTitle Sync="TRUE">Winnebago_Co_1981.sid</resTitle>
<presForm>
<PresFormCd Sync="TRUE" value="005">
</PresFormCd>
</presForm>
<citRespParty>
<rpOrgName>Ayres Associates</rpOrgName>
<role>
<RoleCd value="006">
</RoleCd>
</role>
<rpCntInfo>
<cntAddress addressType="both">
<delPoint>5201 E. Terrace Dr., Suite 200</delPoint>
<city>Madison</city>
<adminArea>Wisconsin</adminArea>
<postCode>53718</postCode>
<country>US</country>
</cntAddress>
<cntPhone>
<voiceNum tddtty="">(608) 443-1200</voiceNum>
<faxNum>(608) 299-2184</faxNum>
</cntPhone>
</rpCntInfo>
</citRespParty>
<date>
<pubDate>2023-10-21T00:00:00</pubDate>
</date>
</idCitation>
<spatRpType>
<SpatRepTypCd Sync="TRUE" value="002">
</SpatRepTypCd>
</spatRpType>
<dataExt>
<geoEle>
<GeoBndBox esriExtentType="search">
<exTypeCode Sync="TRUE">1</exTypeCode>
<westBL Sync="TRUE">-88.890386</westBL>
<eastBL Sync="TRUE">-88.403322</eastBL>
<northBL Sync="TRUE">44.251652</northBL>
<southBL Sync="TRUE">43.876577</southBL>
</GeoBndBox>
</geoEle>
</dataExt>
<idPurp>This project established a historical imagery mosaic for 1981 Winnebago County.</idPurp>
<idAbs>Ayres Associates provided Winnebago County, Wisconsin with historical imagery georeferencing services in 2023. The original aerial photography was collected in 1981 at a scale of 1:40,000 as part of the USDA imagery program, which were then scanned, indexed, and provided to Ayres by the USDA APFO archives in Salt Lake City, UT. The scanned imagery was mosaiced at Ayres and delivered in single tile Geotifs and MrSIDs, township MrSIDs, and a project-wide MrSID mosaic. The imagery was delivered by Ayres according to a 4-section tile schematic.</idAbs>
<searchKeys>
<keyword>Winnebago County</keyword>
<keyword>Historical </keyword>
<keyword>Imagery</keyword>
<keyword>Aerial</keyword>
<keyword>Photo</keyword>
<keyword>orthophoto</keyword>
<keyword>image</keyword>
</searchKeys>
<resConst>
<Consts>
<useLimit>Not to be used for purposes other than those strictly outlined by the 2023 Winnebago County Orthophotography Initiative.</useLimit>
</Consts>
</resConst>
<placeKeys>
<keyword>Winnebago County, Wisconsin</keyword>
</placeKeys>
<themeKeys>
<keyword>Winnebago County Historical Imagery Project</keyword>
</themeKeys>
<dataChar>
<CharSetCd value="004">
</CharSetCd>
</dataChar>
<idStatus>
<ProgCd value="001">
</ProgCd>
</idStatus>
<resMaint>
<maintFreq>
<MaintFreqCd value="011">
</MaintFreqCd>
</maintFreq>
</resMaint>
<idPoC>
<rpIndName>Jerry L. Bougie</rpIndName>
<rpOrgName>Winnebago County</rpOrgName>
<rpPosName>Director of Planning and Zoning</rpPosName>
<role>
<RoleCd value="007">
</RoleCd>
</role>
<rpCntInfo>
<cntAddress addressType="">
<delPoint>112 Otter Ave, 3rd Floor</delPoint>
<city>Oshkosh</city>
<adminArea>Wisconsin</adminArea>
<postCode>54901</postCode>
<eMailAdd>
</eMailAdd>
<country>US</country>
</cntAddress>
<cntPhone>
<voiceNum tddtty="">920-236-4839</voiceNum>
<faxNum>
</faxNum>
</cntPhone>
</rpCntInfo>
</idPoC>
<tpCat>
<TopicCatCd value="010">
</TopicCatCd>
</tpCat>
<idCredit>Imagery Date: July, 1981</idCredit>
</dataIdInfo>
<mdLang>
<languageCode Sync="TRUE" value="eng">
</languageCode>
<countryCode Sync="TRUE" value="USA">
</countryCode>
</mdLang>
<mdChar>
<CharSetCd Sync="TRUE" value="004">
</CharSetCd>
</mdChar>
<distInfo>
<distFormat>
<formatName Sync="TRUE">Raster Dataset</formatName>
</distFormat>
</distInfo>
<mdHrLv>
<ScopeCd Sync="TRUE" value="005">
</ScopeCd>
</mdHrLv>
<mdHrLvName Sync="TRUE">dataset</mdHrLvName>
<refSysInfo>
<RefSystem>
<refSysID>
<identCode Sync="TRUE" code="0">
</identCode>
<idCodeSpace Sync="TRUE">EPSG</idCodeSpace>
<idVersion Sync="TRUE">8.8(10.4.0)</idVersion>
</refSysID>
</RefSystem>
</refSysInfo>
<spatRepInfo>
<Georect>
<cellGeo>
<CellGeoCd Sync="TRUE" value="002">
</CellGeoCd>
</cellGeo>
<numDims Sync="TRUE">2</numDims>
<tranParaAv Sync="TRUE">1</tranParaAv>
<chkPtAv Sync="TRUE">0</chkPtAv>
<cornerPts>
<pos Sync="TRUE">700703.629035 422022.287330</pos>
</cornerPts>
<cornerPts>
<pos Sync="TRUE">700703.629035 558517.617290</pos>
</cornerPts>
<cornerPts>
<pos Sync="TRUE">828333.095922 558517.617290</pos>
</cornerPts>
<cornerPts>
<pos Sync="TRUE">828333.095922 422022.287330</pos>
</cornerPts>
<centerPt>
<pos Sync="TRUE">764518.362478 490269.952310</pos>
</centerPt>
<axisDimension type="002">
<dimSize Sync="TRUE">63817</dimSize>
<dimResol>
<value Sync="TRUE" uom="ftUS">1.999929</value>
</dimResol>
</axisDimension>
<axisDimension type="001">
<dimSize Sync="TRUE">68262</dimSize>
<dimResol>
<value Sync="TRUE" uom="ftUS">1.999580</value>
</dimResol>
</axisDimension>
<ptInPixel>
<PixOrientCd Sync="TRUE" value="001">
</PixOrientCd>
</ptInPixel>
</Georect>
</spatRepInfo>
<contInfo>
<ImgDesc>
<contentTyp>
<ContentTypCd Sync="TRUE" value="001">
</ContentTypCd>
</contentTyp>
<covDim>
<Band>
<dimDescrp Sync="TRUE">Band_1</dimDescrp>
<bitsPerVal Sync="TRUE">8</bitsPerVal>
<valUnit>
<UOM type="length">
</UOM>
</valUnit>
<maxVal Sync="TRUE">255.000000</maxVal>
<minVal Sync="TRUE">82.000000</minVal>
</Band>
</covDim>
</ImgDesc>
</contInfo>
<mdDateSt Sync="TRUE">20231110</mdDateSt>
<mdContact>
<rpOrgName>Ayres Associates</rpOrgName>
<role>
<RoleCd value="006">
</RoleCd>
</role>
<rpCntInfo>
<cntAddress addressType="both">
<delPoint>5201 E. Terrace Dr., Suite 200</delPoint>
<city>Madison</city>
<adminArea>Wisconsin</adminArea>
<postCode>53718</postCode>
<country>US</country>
</cntAddress>
<cntPhone>
<voiceNum tddtty="">(608) 443-1200</voiceNum>
<faxNum>(608) 299-2184</faxNum>
</cntPhone>
</rpCntInfo>
<displayName>Ayres Associates</displayName>
</mdContact>
<mdMaint>
<maintFreq>
<MaintFreqCd value="011">
</MaintFreqCd>
</maintFreq>
</mdMaint>
<dqInfo>
<report dimension="vertical" type="DQConcConsis">
<measDesc>Images were color corrected to match adjacent flight lines. The resulting imagery was globally tilted in terms of contrast and color to form a radiometrically consistent orthophoto mosaic.</measDesc>
</report>
<report dimension="" type="DQCompOm">
<measDesc>These data cover the entirety of the 2023 Winnebago County Orthophotography Initiative.</measDesc>
</report>
<dataLineage>
<prcStep>
<stepDesc>The original aerial photography was collected in 1981 at a scale of 1:40,000 by the USDA. The historic images were provided by the USDA APFO archives in Salt Lake City, UT. Control points were selected on the 2020 county-wide MrSID mosaic and matched to a commonly shared location on the historic images. The control points were spaced in an effort to cover the entirety of the frame and to minimize the standard error. An aerotriangulation process was performed and supplemented by the survey points. The triangulated strips were rectified to a generalized DEM created from exisiting LiDAR. The georeferenced images were mosaicked using manual seamline generation and tone/color balanced to a project-wide consistency. Four-section tiles were extracted from the mosaic and each individual tile was reviewed for artifacts and anomalies adjusted as part of quality control procedures. When necessary, local corrections were performed to minimize such effects.</stepDesc>
<stepDateTm>2023-10-15T00:00:00</stepDateTm>
</prcStep>
</dataLineage>
</dqInfo>
</metadata>
