{
 "currentVersion": 10.91,
 "serviceDescription": "1994 Digital Black and White Orthophotography for Winnebago County, Wisconsin. This was derived from the 1994 aerial photography. Aerometric Engineering, Inc. was contracted in the spring of March, 1994 to fly within Winnebago County, WI and capture orthophotography, create color 2 foot pixel digital raster images and deliver in TIF format all of the raster images for the WINGS Project.",
 "name": "AirPhoto/WinnebagoCo1994",
 "description": "1994 Digital Black and White Orthophotography for Winnebago County, Wisconsin. This was derived from the 1994 aerial photography. Aerometric Engineering, Inc. was contracted in the spring of March, 1994 to fly within Winnebago County, WI and capture orthophotography, create color 2 foot pixel digital raster images and deliver in TIF format all of the raster images for the WINGS Project.",
 "extent": {
  "xmin": 2260100,
  "ymin": 692300,
  "xmax": 2387100,
  "ymax": 822198,
  "spatialReference": {
   "wkid": 102754,
   "latestWkid": 2289
  }
 },
 "initialExtent": {
  "xmin": 2260100,
  "ymin": 692300,
  "xmax": 2387100,
  "ymax": 822198,
  "spatialReference": {
   "wkid": 102754,
   "latestWkid": 2289
  }
 },
 "fullExtent": {
  "xmin": 2260100,
  "ymin": 692300,
  "xmax": 2387100,
  "ymax": 822198,
  "spatialReference": {
   "wkid": 102754,
   "latestWkid": 2289
  }
 },
 "pixelSizeX": 2,
 "pixelSizeY": 2,
 "bandCount": 3,
 "pixelType": "U8",
 "minPixelSize": 0,
 "maxPixelSize": 0,
 "copyrightText": "Imagery Date: March, 1994",
 "serviceDataType": "esriImageServiceDataTypeRGB",
 "minValues": [],
 "maxValues": [],
 "meanValues": [],
 "stdvValues": [],
 "objectIdField": "",
 "fields": [],
 "capabilities": "Image,Metadata,Mensuration",
 "defaultMosaicMethod": "Center",
 "allowedMosaicMethods": "",
 "sortField": "",
 "sortValue": null,
 "sortAscending": true,
 "mosaicOperator": "First",
 "defaultCompressionQuality": 75,
 "defaultResamplingMethod": "Bilinear",
 "maxImageHeight": 4100,
 "maxImageWidth": 15000,
 "allowRasterFunction": true,
 "rasterFunctionInfos": [
  {
   "name": "None",
   "description": "",
   "help": ""
  }
 ],
 "rasterTypeInfos": [
  {
   "name": "Raster Dataset",
   "description": "Supports all ArcGIS Raster Datasets",
   "help": ""
  }
 ],
 "mensurationCapabilities": "Basic",
 "hasHistograms": false,
 "hasColormap": false,
 "hasRasterAttributeTable": false,
 "minScale": 0,
 "maxScale": 0,
 "exportTilesAllowed": false,
 "hasMultidimensions": false,
 "supportsStatistics": false,
 "supportsAdvancedQueries": false,
 "editFieldsInfo": null,
 "ownershipBasedAccessControlForRasters": null,
 "allowComputeTiePoints": false,
 "useStandardizedQueries": true,
 "advancedQueryCapabilities": {
  "useStandardizedQueries": true,
  "supportsStatistics": false,
  "supportsOrderBy": false,
  "supportsDistinct": false,
  "supportsPagination": false
 },
 "spatialReference": {
  "wkid": 102754,
  "latestWkid": 2289
 }
}
