{
 "currentVersion": 10.91,
 "serviceDescription": "This information is intended to be used primarily for the 1997 digital raster black and white orthophotography backdrop in the WINGS Project. The raster images can be displayed alone or with vector layers overlayed ontop of the raster images.",
 "name": "AirPhoto/WinnebagoCo1997",
 "description": "This information is intended to be used primarily for the 1997 digital raster black and white orthophotography backdrop in the WINGS Project. The raster images can be displayed alone or with vector layers overlayed ontop of the raster images.",
 "extent": {
  "xmin": 2260220,
  "ymin": 692700,
  "xmax": 2387300,
  "ymax": 822120,
  "spatialReference": {
   "wkid": 102754,
   "latestWkid": 2289
  }
 },
 "initialExtent": {
  "xmin": 2260220,
  "ymin": 692700,
  "xmax": 2387300,
  "ymax": 822120,
  "spatialReference": {
   "wkid": 102754,
   "latestWkid": 2289
  }
 },
 "fullExtent": {
  "xmin": 2260220,
  "ymin": 692700,
  "xmax": 2387300,
  "ymax": 822120,
  "spatialReference": {
   "wkid": 102754,
   "latestWkid": 2289
  }
 },
 "pixelSizeX": 2,
 "pixelSizeY": 2,
 "bandCount": 3,
 "pixelType": "U8",
 "minPixelSize": 0,
 "maxPixelSize": 0,
 "copyrightText": "Imagery Date: March, 1997",
 "serviceDataType": "esriImageServiceDataTypeRGB",
 "minValues": [],
 "maxValues": [],
 "meanValues": [],
 "stdvValues": [],
 "objectIdField": "",
 "fields": [],
 "capabilities": "Image,Metadata,Mensuration",
 "defaultMosaicMethod": "Center",
 "allowedMosaicMethods": "",
 "sortField": "",
 "sortValue": null,
 "sortAscending": true,
 "mosaicOperator": "First",
 "defaultCompressionQuality": 75,
 "defaultResamplingMethod": "Bilinear",
 "maxImageHeight": 4100,
 "maxImageWidth": 15000,
 "allowRasterFunction": true,
 "rasterFunctionInfos": [
  {
   "name": "None",
   "description": "",
   "help": ""
  }
 ],
 "rasterTypeInfos": [
  {
   "name": "Raster Dataset",
   "description": "Supports all ArcGIS Raster Datasets",
   "help": ""
  }
 ],
 "mensurationCapabilities": "Basic",
 "hasHistograms": false,
 "hasColormap": false,
 "hasRasterAttributeTable": false,
 "minScale": 0,
 "maxScale": 0,
 "exportTilesAllowed": false,
 "hasMultidimensions": false,
 "supportsStatistics": false,
 "supportsAdvancedQueries": false,
 "editFieldsInfo": null,
 "ownershipBasedAccessControlForRasters": null,
 "allowComputeTiePoints": false,
 "useStandardizedQueries": true,
 "advancedQueryCapabilities": {
  "useStandardizedQueries": true,
  "supportsStatistics": false,
  "supportsOrderBy": false,
  "supportsDistinct": false,
  "supportsPagination": false
 },
 "spatialReference": {
  "wkid": 102754,
  "latestWkid": 2289
 }
}
