{
 "currentVersion": 10.91,
 "serviceDescription": "2000 Digital Color Orthophotography for Winnebago County, Wisconsin. This was derived from the 2000 aerial photography. Aerometric Engineering, Inc. was contracted in the spring of March, 2000 to fly within Winnebago County, WI and capture orthophotography, create color 1 foot pixel digital raster images and deliver in MrSid and TIF format all of the raster images for the WINGS Project.",
 "name": "AirPhoto/WinnebagoCo2000",
 "description": "2000 Digital Color Orthophotography for Winnebago County, Wisconsin. This was derived from the 2000 aerial photography. Aerometric Engineering, Inc. was contracted in the spring of March, 2000 to fly within Winnebago County, WI and capture orthophotography, create color 1 foot pixel digital raster images and deliver in MrSid and TIF format all of the raster images for the WINGS Project.",
 "extent": {
  "xmin": 2260220,
  "ymin": 692700,
  "xmax": 2387300,
  "ymax": 822120,
  "spatialReference": {
   "wkid": 102754,
   "latestWkid": 2289
  }
 },
 "initialExtent": {
  "xmin": 2260220,
  "ymin": 692700,
  "xmax": 2387300,
  "ymax": 822120,
  "spatialReference": {
   "wkid": 102754,
   "latestWkid": 2289
  }
 },
 "fullExtent": {
  "xmin": 2260220,
  "ymin": 692700,
  "xmax": 2387300,
  "ymax": 822120,
  "spatialReference": {
   "wkid": 102754,
   "latestWkid": 2289
  }
 },
 "pixelSizeX": 1,
 "pixelSizeY": 1,
 "bandCount": 3,
 "pixelType": "U8",
 "minPixelSize": 0,
 "maxPixelSize": 0,
 "copyrightText": "Imagery Date: March, 2000",
 "serviceDataType": "esriImageServiceDataTypeRGB",
 "minValues": [],
 "maxValues": [],
 "meanValues": [],
 "stdvValues": [],
 "objectIdField": "",
 "fields": [],
 "capabilities": "Image,Metadata,Mensuration",
 "defaultMosaicMethod": "Center",
 "allowedMosaicMethods": "",
 "sortField": "",
 "sortValue": null,
 "sortAscending": true,
 "mosaicOperator": "First",
 "defaultCompressionQuality": 75,
 "defaultResamplingMethod": "Bilinear",
 "maxImageHeight": 4100,
 "maxImageWidth": 15000,
 "allowRasterFunction": true,
 "rasterFunctionInfos": [
  {
   "name": "None",
   "description": "",
   "help": ""
  }
 ],
 "rasterTypeInfos": [
  {
   "name": "Raster Dataset",
   "description": "Supports all ArcGIS Raster Datasets",
   "help": ""
  }
 ],
 "mensurationCapabilities": "Basic",
 "hasHistograms": false,
 "hasColormap": false,
 "hasRasterAttributeTable": false,
 "minScale": 0,
 "maxScale": 0,
 "exportTilesAllowed": false,
 "hasMultidimensions": false,
 "supportsStatistics": false,
 "supportsAdvancedQueries": false,
 "editFieldsInfo": null,
 "ownershipBasedAccessControlForRasters": null,
 "allowComputeTiePoints": false,
 "useStandardizedQueries": true,
 "advancedQueryCapabilities": {
  "useStandardizedQueries": true,
  "supportsStatistics": false,
  "supportsOrderBy": false,
  "supportsDistinct": false,
  "supportsPagination": false
 },
 "spatialReference": {
  "wkid": 102754,
  "latestWkid": 2289
 }
}
