{
 "currentVersion": 10.91,
 "serviceDescription": "This data set consists of orthophotos covering approximately 554.2 square miles over the Winnebago County, Wisconsin. An orthoimage is remotely sensed image data in which displacement of features in the image caused by terrain relief and variations in aircraft altitude and orientation have been mathematically removed. Orthoimagery combines the image characteristics of a photograph with the geometric qualities of a map.\n\n\n\nA total of 674 uncompressed, ortho photo tiles formatted as 8-bit, 4-band (RGB-IR) natural color GeoTIFF (with TIF world files) were produced in NAD83 (2011) WISCORS - Winnebago County System, US survey feet; NAVD88 (Geoid 12A), US survey feet. Tile size is 5,000 feet x 5,000 ft and uses a tile index which derives the tile file name from the southwest corner of the tile. There is no image overlap between adjacent files.\n\n\nAerial photography for the project was captured during the Spring of 2015 on the following flight dates: March 17, 2015 and March 18, 2015. The Nominal Acquisition Altitude of 7,500 ft (AGL) was used to capture the 0.5-foot imagery. The Microsoft UltraCam and Eagle (UCE) large format digital camera was used to capture four band (RGB-IR) imagery at 8 bits. Some areas had snow piles on the ground and ice on lakes, however this was deemed not an issue. Rivers were at or below normal levels.",
 "name": "AirPhoto/WinnebagoCo2015",
 "description": "This data set consists of orthophotos covering approximately 554.2 square miles over the Winnebago County, Wisconsin. An orthoimage is remotely sensed image data in which displacement of features in the image caused by terrain relief and variations in aircraft altitude and orientation have been mathematically removed. Orthoimagery combines the image characteristics of a photograph with the geometric qualities of a map.\n\n\n\nA total of 674 uncompressed, ortho photo tiles formatted as 8-bit, 4-band (RGB-IR) natural color GeoTIFF (with TIF world files) were produced in NAD83 (2011) WISCORS - Winnebago County System, US survey feet; NAVD88 (Geoid 12A), US survey feet. Tile size is 5,000 feet x 5,000 ft and uses a tile index which derives the tile file name from the southwest corner of the tile. There is no image overlap between adjacent files.\n\n\nAerial photography for the project was captured during the Spring of 2015 on the following flight dates: March 17, 2015 and March 18, 2015. The Nominal Acquisition Altitude of 7,500 ft (AGL) was used to capture the 0.5-foot imagery. The Microsoft UltraCam and Eagle (UCE) large format digital camera was used to capture four band (RGB-IR) imagery at 8 bits. Some areas had snow piles on the ground and ice on lakes, however this was deemed not an issue. Rivers were at or below normal levels.",
 "extent": {
  "xmin": 687844.49968825,
  "ymin": 424749.99992392,
  "xmax": 837844.49968825,
  "ymax": 559749.99992392,
  "spatialReference": {
   "wkid": 103470,
   "latestWkid": 103470
  }
 },
 "initialExtent": {
  "xmin": 687844.49968825,
  "ymin": 424749.99992392,
  "xmax": 837844.49968825,
  "ymax": 559749.99992392,
  "spatialReference": {
   "wkid": 103470,
   "latestWkid": 103470
  }
 },
 "fullExtent": {
  "xmin": 687844.49968825,
  "ymin": 424749.99992392,
  "xmax": 837844.49968825,
  "ymax": 559749.99992392,
  "spatialReference": {
   "wkid": 103470,
   "latestWkid": 103470
  }
 },
 "pixelSizeX": 0.5,
 "pixelSizeY": 0.5,
 "bandCount": 3,
 "pixelType": "U8",
 "minPixelSize": 0,
 "maxPixelSize": 0,
 "copyrightText": "Imagery Date: March, 2015",
 "serviceDataType": "esriImageServiceDataTypeRGB",
 "minValues": [],
 "maxValues": [],
 "meanValues": [],
 "stdvValues": [],
 "objectIdField": "",
 "fields": [],
 "capabilities": "Image,Metadata,Mensuration",
 "defaultMosaicMethod": "Center",
 "allowedMosaicMethods": "",
 "sortField": "",
 "sortValue": null,
 "sortAscending": true,
 "mosaicOperator": "First",
 "defaultCompressionQuality": 75,
 "defaultResamplingMethod": "Bilinear",
 "maxImageHeight": 4100,
 "maxImageWidth": 15000,
 "allowRasterFunction": true,
 "rasterFunctionInfos": [
  {
   "name": "None",
   "description": "",
   "help": ""
  }
 ],
 "rasterTypeInfos": [
  {
   "name": "Raster Dataset",
   "description": "Supports all ArcGIS Raster Datasets",
   "help": ""
  }
 ],
 "mensurationCapabilities": "Basic",
 "hasHistograms": false,
 "hasColormap": false,
 "hasRasterAttributeTable": false,
 "minScale": 0,
 "maxScale": 0,
 "exportTilesAllowed": false,
 "hasMultidimensions": false,
 "supportsStatistics": false,
 "supportsAdvancedQueries": false,
 "editFieldsInfo": null,
 "ownershipBasedAccessControlForRasters": null,
 "allowComputeTiePoints": false,
 "useStandardizedQueries": true,
 "advancedQueryCapabilities": {
  "useStandardizedQueries": true,
  "supportsStatistics": false,
  "supportsOrderBy": false,
  "supportsDistinct": false,
  "supportsPagination": false
 },
 "spatialReference": {
  "wkid": 103470,
  "latestWkid": 103470
 }
}
