{
 "currentVersion": 10.91,
 "serviceDescription": "Ayres Associates provided Winnebago County, Wisconsin with digital, 4-band orthoimagery services in 2020 as part of WROC. The aerial imagery was collected on April 2nd, 4th, 16th and 18th using a Leica Geosystems ADS100 sensor mounted in a fixed-wing aircraft. Aerial imagery was collected to support 0.5 foot ground sample distance (GSD) orthoimagery to meet ASPRS Class II horizontal accuracy specifications at 1\" = 100' map scale. The 6-inch pixel orthoimagery was produced to meet or exceed a horizontal accuracy of 1.4 foot RMSE according to ASPRS Positional Accuracy Standards for Digital Geospatial Data. Resultant orthoimagery was rectified to a DEM created from existing LiDAR acquired in 2017. Orthoimagery was delivered in PLSS section GeoTiff and MrSID tiles and a project wide MrSID mosaic. The orthoimagery was delivered according to a section tile schematic. The project area covers approximately 533 square miles. Supplemental Information: The Wisconsin Regional Orthoimagery Consortium (WROC) is a multi-entity group of county members and partners led by regional planning commissions (RPCs) and WROC representatives from Ayres Associates. The goal of the consortium is to build and sustain a multi-participant program to acquire digital orthoimagery and elevation data throughout Wisconsin. Orthoimagery was collected for Winnebago County in 2020 to provide consistent deliverable products and accuracy standards for each of the participating entities.",
 "name": "AirPhoto/WinnebagoCo2020",
 "description": "Ayres Associates provided Winnebago County, Wisconsin with digital, 4-band orthoimagery services in 2020 as part of WROC. The aerial imagery was collected on April 2nd, 4th, 16th and 18th using a Leica Geosystems ADS100 sensor mounted in a fixed-wing aircraft. Aerial imagery was collected to support 0.5 foot ground sample distance (GSD) orthoimagery to meet ASPRS Class II horizontal accuracy specifications at 1\" = 100' map scale. The 6-inch pixel orthoimagery was produced to meet or exceed a horizontal accuracy of 1.4 foot RMSE according to ASPRS Positional Accuracy Standards for Digital Geospatial Data. Resultant orthoimagery was rectified to a DEM created from existing LiDAR acquired in 2017. Orthoimagery was delivered in PLSS section GeoTiff and MrSID tiles and a project wide MrSID mosaic. The orthoimagery was delivered according to a section tile schematic. The project area covers approximately 533 square miles. Supplemental Information: The Wisconsin Regional Orthoimagery Consortium (WROC) is a multi-entity group of county members and partners led by regional planning commissions (RPCs) and WROC representatives from Ayres Associates. The goal of the consortium is to build and sustain a multi-participant program to acquire digital orthoimagery and elevation data throughout Wisconsin. Orthoimagery was collected for Winnebago County in 2020 to provide consistent deliverable products and accuracy standards for each of the participating entities.",
 "extent": {
  "xmin": 693387.0823642637,
  "ymin": 419963.01399999997,
  "xmax": 839366.0823642637,
  "ymax": 558560.014,
  "spatialReference": {
   "wkid": 103470,
   "latestWkid": 103470
  }
 },
 "initialExtent": {
  "xmin": 693387.0823642637,
  "ymin": 419963.01399999997,
  "xmax": 839366.0823642637,
  "ymax": 558560.014,
  "spatialReference": {
   "wkid": 103470,
   "latestWkid": 103470
  }
 },
 "fullExtent": {
  "xmin": 693387.0823642637,
  "ymin": 419963.01399999997,
  "xmax": 839366.0823642637,
  "ymax": 558560.014,
  "spatialReference": {
   "wkid": 103470,
   "latestWkid": 103470
  }
 },
 "pixelSizeX": 0.5,
 "pixelSizeY": 0.5,
 "bandCount": 3,
 "pixelType": "U8",
 "minPixelSize": 0,
 "maxPixelSize": 0,
 "copyrightText": "Imagery Date: April 2020",
 "serviceDataType": "esriImageServiceDataTypeRGB",
 "minValues": [],
 "maxValues": [],
 "meanValues": [],
 "stdvValues": [],
 "objectIdField": "",
 "fields": [],
 "capabilities": "Mensuration,Image,Metadata",
 "defaultMosaicMethod": "Center",
 "allowedMosaicMethods": "",
 "sortField": "",
 "sortValue": null,
 "sortAscending": true,
 "mosaicOperator": "First",
 "defaultCompressionQuality": 75,
 "defaultResamplingMethod": "Bilinear",
 "maxImageHeight": 4100,
 "maxImageWidth": 15000,
 "allowRasterFunction": true,
 "rasterFunctionInfos": [
  {
   "name": "None",
   "description": "",
   "help": ""
  }
 ],
 "rasterTypeInfos": [
  {
   "name": "Raster Dataset",
   "description": "Supports all ArcGIS Raster Datasets",
   "help": ""
  }
 ],
 "mensurationCapabilities": "Basic",
 "hasHistograms": false,
 "hasColormap": false,
 "hasRasterAttributeTable": false,
 "minScale": 0,
 "maxScale": 0,
 "exportTilesAllowed": false,
 "hasMultidimensions": false,
 "supportsStatistics": false,
 "supportsAdvancedQueries": false,
 "editFieldsInfo": null,
 "ownershipBasedAccessControlForRasters": null,
 "allowComputeTiePoints": false,
 "useStandardizedQueries": true,
 "advancedQueryCapabilities": {
  "useStandardizedQueries": true,
  "supportsStatistics": false,
  "supportsOrderBy": false,
  "supportsDistinct": false,
  "supportsPagination": false
 },
 "spatialReference": {
  "wkid": 103470,
  "latestWkid": 103470
 }
}
