{
 "currentVersion": 10.91,
 "serviceDescription": "This photo covers most of the most of the urbanized part of Winnebago County. This service was downgrade to a 6 in pixel resolution. Please see use constraints.\n",
 "name": "AirPhoto/WinnebagoCo2023",
 "description": "This photo covers most of the most of the urbanized part of Winnebago County. This service was downgrade to a 6 in pixel resolution. Please see use constraints.\n",
 "extent": {
  "xmin": 721516.6912964936,
  "ymin": 433124.8500018042,
  "xmax": 839790.9412964936,
  "ymax": 560724.6000018042,
  "spatialReference": {
   "wkt": "PROJCS[\"NAD_1983_2011_WISCRS_Calumet_Fond_du_Lac_Outagamie_and_Winnebago_ftUS\",GEOGCS[\"GCS_NAD83_2011\",DATUM[\"D_NAD83_National_Spatial_Reference_System_2011\",SPHEROID[\"GRS_1980\",6378137.0,298.257222101]],PRIMEM[\"Greenwich\",0.0],UNIT[\"Degree\",0.0174532925199433]],PROJECTION[\"Transverse_Mercator\"],PARAMETER[\"false_easting\",802999.999],PARAMETER[\"false_northing\",0.016],PARAMETER[\"central_meridian\",-88.5],PARAMETER[\"scale_factor\",1.0000286569],PARAMETER[\"latitude_of_origin\",42.71944444444445],UNIT[\"Foot_US\",0.3048006096012192]]"
  }
 },
 "initialExtent": {
  "xmin": 721516.6912964936,
  "ymin": 433124.8500018042,
  "xmax": 839790.9412964936,
  "ymax": 560724.6000018042,
  "spatialReference": {
   "wkt": "PROJCS[\"NAD_1983_2011_WISCRS_Calumet_Fond_du_Lac_Outagamie_and_Winnebago_ftUS\",GEOGCS[\"GCS_NAD83_2011\",DATUM[\"D_NAD83_National_Spatial_Reference_System_2011\",SPHEROID[\"GRS_1980\",6378137.0,298.257222101]],PRIMEM[\"Greenwich\",0.0],UNIT[\"Degree\",0.0174532925199433]],PROJECTION[\"Transverse_Mercator\"],PARAMETER[\"false_easting\",802999.999],PARAMETER[\"false_northing\",0.016],PARAMETER[\"central_meridian\",-88.5],PARAMETER[\"scale_factor\",1.0000286569],PARAMETER[\"latitude_of_origin\",42.71944444444445],UNIT[\"Foot_US\",0.3048006096012192]]"
  }
 },
 "fullExtent": {
  "xmin": 721516.6912964936,
  "ymin": 433124.8500018042,
  "xmax": 839790.9412964936,
  "ymax": 560724.6000018042,
  "spatialReference": {
   "wkt": "PROJCS[\"NAD_1983_2011_WISCRS_Calumet_Fond_du_Lac_Outagamie_and_Winnebago_ftUS\",GEOGCS[\"GCS_NAD83_2011\",DATUM[\"D_NAD83_National_Spatial_Reference_System_2011\",SPHEROID[\"GRS_1980\",6378137.0,298.257222101]],PRIMEM[\"Greenwich\",0.0],UNIT[\"Degree\",0.0174532925199433]],PROJECTION[\"Transverse_Mercator\"],PARAMETER[\"false_easting\",802999.999],PARAMETER[\"false_northing\",0.016],PARAMETER[\"central_meridian\",-88.5],PARAMETER[\"scale_factor\",1.0000286569],PARAMETER[\"latitude_of_origin\",42.71944444444445],UNIT[\"Foot_US\",0.3048006096012192]]"
  }
 },
 "pixelSizeX": 0.25,
 "pixelSizeY": 0.25,
 "bandCount": 3,
 "pixelType": "U8",
 "minPixelSize": 0,
 "maxPixelSize": 0,
 "copyrightText": "Nearmap",
 "serviceDataType": "esriImageServiceDataTypeRGB",
 "minValues": [],
 "maxValues": [],
 "meanValues": [],
 "stdvValues": [],
 "objectIdField": "",
 "fields": [],
 "capabilities": "Image,Metadata,Mensuration",
 "defaultMosaicMethod": "Center",
 "allowedMosaicMethods": "",
 "sortField": "",
 "sortValue": null,
 "sortAscending": true,
 "mosaicOperator": "First",
 "defaultCompressionQuality": 75,
 "defaultResamplingMethod": "Bilinear",
 "maxImageHeight": 4100,
 "maxImageWidth": 15000,
 "allowRasterFunction": true,
 "rasterFunctionInfos": [
  {
   "name": "None",
   "description": "",
   "help": ""
  }
 ],
 "rasterTypeInfos": [
  {
   "name": "Raster Dataset",
   "description": "Supports all ArcGIS Raster Datasets",
   "help": ""
  }
 ],
 "mensurationCapabilities": "Basic",
 "hasHistograms": false,
 "hasColormap": false,
 "hasRasterAttributeTable": false,
 "minScale": 0,
 "maxScale": 0,
 "exportTilesAllowed": false,
 "hasMultidimensions": false,
 "supportsStatistics": false,
 "supportsAdvancedQueries": false,
 "editFieldsInfo": null,
 "ownershipBasedAccessControlForRasters": null,
 "allowComputeTiePoints": false,
 "useStandardizedQueries": true,
 "advancedQueryCapabilities": {
  "useStandardizedQueries": true,
  "supportsStatistics": false,
  "supportsOrderBy": false,
  "supportsDistinct": false,
  "supportsPagination": false
 },
 "spatialReference": {
  "wkt": "PROJCS[\"NAD_1983_2011_WISCRS_Calumet_Fond_du_Lac_Outagamie_and_Winnebago_ftUS\",GEOGCS[\"GCS_NAD83_2011\",DATUM[\"D_NAD83_National_Spatial_Reference_System_2011\",SPHEROID[\"GRS_1980\",6378137.0,298.257222101]],PRIMEM[\"Greenwich\",0.0],UNIT[\"Degree\",0.0174532925199433]],PROJECTION[\"Transverse_Mercator\"],PARAMETER[\"false_easting\",802999.999],PARAMETER[\"false_northing\",0.016],PARAMETER[\"central_meridian\",-88.5],PARAMETER[\"scale_factor\",1.0000286569],PARAMETER[\"latitude_of_origin\",42.71944444444445],UNIT[\"Foot_US\",0.3048006096012192]]"
 }
}
