{
 "currentVersion": 10.91,
 "serviceDescription": "WinnebagoCo2025",
 "name": "WinnebagoCo2025",
 "description": "",
 "extent": {
  "xmin": 701310,
  "ymin": 427870.25,
  "xmax": 839319.75,
  "ymax": 558540,
  "spatialReference": {
   "wkid": 103470,
   "latestWkid": 103470
  }
 },
 "initialExtent": {
  "xmin": 701310,
  "ymin": 427870.25,
  "xmax": 839319.75,
  "ymax": 558540,
  "spatialReference": {
   "wkid": 103470,
   "latestWkid": 103470
  }
 },
 "fullExtent": {
  "xmin": 701310,
  "ymin": 427870.25,
  "xmax": 839319.75,
  "ymax": 558540,
  "spatialReference": {
   "wkid": 103470,
   "latestWkid": 103470
  }
 },
 "hasMultidimensions": false,
 "pixelSizeX": 0.25,
 "pixelSizeY": 0.25,
 "datasetFormat": "MrSID",
 "uncompressedSize": 1442695962405,
 "blockWidth": 1024,
 "blockHeight": 128,
 "compressionType": "Wavelet (MG4)",
 "bandNames": [
  "Band_1",
  "Band_2",
  "Band_3",
  "Band_4",
  "Band_5"
 ],
 "allowCopy": true,
 "allowAnalysis": true,
 "bandCount": 5,
 "noDataValue": 0,
 "noDataValues": [
  0,
  0,
  0,
  256,
  256
 ],
 "pixelType": "U8",
 "minPixelSize": 0,
 "maxPixelSize": 0,
 "copyrightText": "",
 "serviceDataType": "esriImageServiceDataTypeGeneric",
 "serviceSourceType": "esriImageServiceSourceTypeDataset",
 "minValues": [
  1,
  1,
  1,
  1,
  1
 ],
 "maxValues": [
  255,
  255,
  255,
  255,
  255
 ],
 "meanValues": [
  112.85085650185,
  110.03899743342,
  97.714339103807,
  127.27597024279,
  254.94150312514
 ],
 "stdvValues": [
  49.222118660992,
  44.048783029001,
  40.492527654903,
  54.653490121201,
  3.6232387387347
 ],
 "objectIdField": "",
 "fields": [],
 "capabilities": "Image,Metadata,Mensuration",
 "defaultMosaicMethod": "Center",
 "allowedMosaicMethods": "",
 "sortField": "",
 "sortValue": null,
 "sortAscending": true,
 "mosaicOperator": "First",
 "defaultCompressionQuality": 75,
 "defaultResamplingMethod": "Bilinear",
 "maxImageHeight": 4100,
 "maxImageWidth": 15000,
 "allowRasterFunction": true,
 "rasterFunctionInfos": [
  {
   "name": "None",
   "description": "",
   "help": ""
  }
 ],
 "rasterTypeInfos": [
  {
   "name": "Raster Dataset",
   "description": "Supports all ArcGIS Raster Datasets",
   "help": ""
  }
 ],
 "mensurationCapabilities": "Basic",
 "hasHistograms": true,
 "hasColormap": false,
 "hasRasterAttributeTable": false,
 "minScale": 0,
 "maxScale": 0,
 "exportTilesAllowed": false,
 "supportsStatistics": false,
 "supportsAdvancedQueries": false,
 "editFieldsInfo": null,
 "ownershipBasedAccessControlForRasters": null,
 "allowComputeTiePoints": false,
 "useStandardizedQueries": true,
 "advancedQueryCapabilities": {
  "useStandardizedQueries": true,
  "supportsStatistics": false,
  "supportsOrderBy": false,
  "supportsDistinct": false,
  "supportsPagination": false
 },
 "spatialReference": {
  "wkid": 103470,
  "latestWkid": 103470
 }
}
