View In:
ArcGIS JavaScript
ArcGIS Online Map Viewer
ArcGIS Earth
ArcMap
View Footprint In:
ArcGIS Online Map Viewer
Service Description: Ayres Associates provided Winnebago County, Wisconsin with historical imagery georeferencing services in 2023. The original aerial photography was collected in 1981 at a scale of 1:40,000 as part of the USDA imagery program, which were then scanned, indexed, and provided to Ayres by the USDA APFO archives in Salt Lake City, UT. The scanned imagery was mosaiced at Ayres and delivered in single tile Geotifs and MrSIDs, township MrSIDs, and a project-wide MrSID mosaic. The imagery was delivered by Ayres according to a 4-section tile schematic.
Name: AirPhoto/WinnebagoCo1981
Description: Ayres Associates provided Winnebago County, Wisconsin with historical imagery georeferencing services in 2023. The original aerial photography was collected in 1981 at a scale of 1:40,000 as part of the USDA imagery program, which were then scanned, indexed, and provided to Ayres by the USDA APFO archives in Salt Lake City, UT. The scanned imagery was mosaiced at Ayres and delivered in single tile Geotifs and MrSIDs, township MrSIDs, and a project-wide MrSID mosaic. The imagery was delivered by Ayres according to a 4-section tile schematic.
Single Fused Map Cache: false
Extent:
XMin: 700703.6290345675
YMin: 422022.2873300001
XMax: 828333.0959216065
YMax: 558517.6172900001
Spatial Reference: 0
(0)
LatestVCSWkid(0)
Initial Extent:
XMin: 700703.6290345675
YMin: 422022.2873300001
XMax: 828333.0959216065
YMax: 558517.6172900001
Spatial Reference: 0
(0)
LatestVCSWkid(0)
Full Extent:
XMin: 700703.6290345675
YMin: 422022.2873300001
XMax: 828333.0959216065
YMax: 558517.6172900001
Spatial Reference: 0
(0)
LatestVCSWkid(0)
Pixel Size X: 1.9999289670000002
Pixel Size Y: 1.9995800000000001
Band Count: 1
Pixel Type: U8
RasterFunction Infos: {"rasterFunctionInfos": [{
"name": "None",
"description": "",
"help": ""
}]}
Mensuration Capabilities: Basic
Has Histograms: true
Has Colormap: false
Has Multi Dimensions : false
Rendering Rule:
Min Scale: 0
Max Scale: 0
Copyright Text: Imagery Date: July, 1981
Service Data Type: esriImageServiceDataTypeGeneric
Min Values: 82
Max Values: 255
Mean Values: 161.41554134091
Standard Deviation Values: 35.78875722132
Object ID Field:
Fields:
None
Default Mosaic Method: Center
Allowed Mosaic Methods:
SortField:
SortValue: null
Mosaic Operator: First
Default Compression Quality: 75
Default Resampling Method: Bilinear
Max Record Count: null
Max Image Height: 4100
Max Image Width: 15000
Max Download Image Count: null
Max Mosaic Image Count: null
Allow Raster Function: true
Allow Copy: null
Allow Analysis: null
Allow Compute TiePoints: false
Supports Statistics: false
Supports Advanced Queries: false
Use StandardizedQueries: true
Raster Type Infos:
Name: Raster Dataset
Description: Supports all ArcGIS Raster Datasets
Help:
Has Raster Attribute Table: false
Edit Fields Info: null
Ownership Based AccessControl For Rasters: null
Child Resources:
Info
Histograms
Key Properties
Legend
Raster Function Infos
Supported Operations:
Export Image
Identify
Measure
Compute Histograms
Compute Statistics Histograms
Get Samples
Compute Class Statistics
Query Boundary
Compute Pixel Location
Compute Angles
Validate
Project