View In:
ArcGIS JavaScript
ArcGIS Online Map Viewer
ArcGIS Earth
ArcMap
View Footprint In:
ArcGIS Online Map Viewer
Service Description: The DMC images were aerotriangulated to support digital ortho image production for the Winnebago County, WI project area. Airborne GPS and ground check point data was provided by AERO-METRIC, Inc. The original project was referenced to the North American Datum of 1983 (NAD83), Wisconsin State Plane Coordinate System horizontally and to the North American Vertical Datum of 1929 (NAVD29) vertically. Units were in US survey feet. The DMC images, ABGPS data, and ground check point data were used as inputs to the Zeiss/Intergraph ImageStation Automatic Triangulation (ISAT) softcopy program. ISAT correlated image points and aerotriangulated the block of images to create exposure station exterior orientations. All ground checkpoints were manually measured on the imagery. These ground checkpoints were included in the aerotriangulation adjustments as unconstrained points for absolute ground location verification. The scale of the aerial photos was 1:25392 and 1:12700. The photography was captured on April 11, 2009. Rectification was done using the aerotriangulation data, raw DMC images, and the processed LiDAR data. These rectified images were used to draw seamlines. The images were then dodged. The dodged rectified images were mosaicked, balanced, and cut into final image sheets. The final sheets were viewed and artifacts were removed as well as other edits performed. A MrSID compressed mosaic of the .5 foot Menasha and Oshkosh areas and the 1 foot Winnebago County rural area was then processed at a compression ratio of 55:1. The MrSID image was saved to a file called p2009.sid in the WINGS Project.
Name: AirPhoto/WinnebagoCo2009
Description: The DMC images were aerotriangulated to support digital ortho image production for the Winnebago County, WI project area. Airborne GPS and ground check point data was provided by AERO-METRIC, Inc. The original project was referenced to the North American Datum of 1983 (NAD83), Wisconsin State Plane Coordinate System horizontally and to the North American Vertical Datum of 1929 (NAVD29) vertically. Units were in US survey feet. The DMC images, ABGPS data, and ground check point data were used as inputs to the Zeiss/Intergraph ImageStation Automatic Triangulation (ISAT) softcopy program. ISAT correlated image points and aerotriangulated the block of images to create exposure station exterior orientations. All ground checkpoints were manually measured on the imagery. These ground checkpoints were included in the aerotriangulation adjustments as unconstrained points for absolute ground location verification. The scale of the aerial photos was 1:25392 and 1:12700. The photography was captured on April 11, 2009. Rectification was done using the aerotriangulation data, raw DMC images, and the processed LiDAR data. These rectified images were used to draw seamlines. The images were then dodged. The dodged rectified images were mosaicked, balanced, and cut into final image sheets. The final sheets were viewed and artifacts were removed as well as other edits performed. A MrSID compressed mosaic of the .5 foot Menasha and Oshkosh areas and the 1 foot Winnebago County rural area was then processed at a compression ratio of 55:1. The MrSID image was saved to a file called p2009.sid in the WINGS Project.
Single Fused Map Cache: false
Extent:
XMin: 2249500.25
YMin: 692199.5
XMax: 2399500.25
YMax: 822200.0
Spatial Reference: 102754
(2289)
LatestVCSWkid(0)
Initial Extent:
XMin: 2249500.25
YMin: 692199.5
XMax: 2399500.25
YMax: 822200.0
Spatial Reference: 102754
(2289)
LatestVCSWkid(0)
Full Extent:
XMin: 2249500.25
YMin: 692199.5
XMax: 2399500.25
YMax: 822200.0
Spatial Reference: 102754
(2289)
LatestVCSWkid(0)
Pixel Size X: 0.5
Pixel Size Y: 0.5
Band Count: 3
Pixel Type: U8
RasterFunction Infos: {"rasterFunctionInfos": [{
"name": "None",
"description": "",
"help": ""
}]}
Mensuration Capabilities: Basic
Has Histograms: false
Has Colormap: false
Has Multi Dimensions : false
Rendering Rule:
Min Scale: 0
Max Scale: 0
Copyright Text: Aero-Metric, Inc.
Service Data Type: esriImageServiceDataTypeRGB
Min Values: N/A
Max Values: N/A
Mean Values: N/A
Standard Deviation Values: N/A
Object ID Field:
Fields:
None
Default Mosaic Method: Center
Allowed Mosaic Methods:
SortField:
SortValue: null
Mosaic Operator: First
Default Compression Quality: 75
Default Resampling Method: Bilinear
Max Record Count: null
Max Image Height: 4100
Max Image Width: 15000
Max Download Image Count: null
Max Mosaic Image Count: null
Allow Raster Function: true
Allow Copy: null
Allow Analysis: null
Allow Compute TiePoints: false
Supports Statistics: false
Supports Advanced Queries: false
Use StandardizedQueries: true
Raster Type Infos:
Name: Raster Dataset
Description: Supports all ArcGIS Raster Datasets
Help:
Has Raster Attribute Table: false
Edit Fields Info: null
Ownership Based AccessControl For Rasters: null
Child Resources:
Info
Key Properties
Legend
Raster Function Infos
Supported Operations:
Export Image
Identify
Measure
Compute Histograms
Compute Statistics Histograms
Get Samples
Compute Class Statistics
Query Boundary
Compute Pixel Location
Compute Angles
Validate
Project