View In:
ArcGIS JavaScript
ArcGIS Online Map Viewer
ArcGIS Earth
ArcMap
View Footprint In:
ArcGIS Online Map Viewer
Service Description: 1957 digital black and white photography for Winnebago County, Wisconsin. This was flown by the Coloramic Aerial Survey Corp with subcontractor Woltz Studios, Inc. The flying was completed in 8-13-1957. The negatives were later scanned by USDA at approximately 2000 dpi. After Winnebago County purchased the scanned images Ayres Associates georeferenced in photography in 2022.
Name: AirPhoto/WinnebagoCo1957
Description: 1957 digital black and white photography for Winnebago County, Wisconsin. This was flown by the Coloramic Aerial Survey Corp with subcontractor Woltz Studios, Inc. The flying was completed in 8-13-1957. The negatives were later scanned by USDA at approximately 2000 dpi. After Winnebago County purchased the scanned images Ayres Associates georeferenced in photography in 2022.
Single Fused Map Cache: false
Extent:
XMin: 700690.2251
YMin: 422009.4473
XMax: 839419.2251
YMax: 558595.4473
Spatial Reference: 0
(0)
LatestVCSWkid(0)
Initial Extent:
XMin: 700690.2251
YMin: 422009.4473
XMax: 839419.2251
YMax: 558595.4473
Spatial Reference: 0
(0)
LatestVCSWkid(0)
Full Extent:
XMin: 700690.2251
YMin: 422009.4473
XMax: 839419.2251
YMax: 558595.4473
Spatial Reference: 0
(0)
LatestVCSWkid(0)
Pixel Size X: 1.0
Pixel Size Y: 1.0
Band Count: 3
Pixel Type: U8
RasterFunction Infos: {"rasterFunctionInfos": [{
"name": "None",
"description": "",
"help": ""
}]}
Mensuration Capabilities: Basic
Has Histograms: false
Has Colormap: false
Has Multi Dimensions : false
Rendering Rule:
Min Scale: 0
Max Scale: 0
Copyright Text: USDA | Winnebago County
Service Data Type: esriImageServiceDataTypeRGB
Min Values: N/A
Max Values: N/A
Mean Values: N/A
Standard Deviation Values: N/A
Object ID Field:
Fields:
None
Default Mosaic Method: Center
Allowed Mosaic Methods:
SortField:
SortValue: null
Mosaic Operator: First
Default Compression Quality: 75
Default Resampling Method: Bilinear
Max Record Count: null
Max Image Height: 4100
Max Image Width: 15000
Max Download Image Count: null
Max Mosaic Image Count: null
Allow Raster Function: true
Allow Copy: null
Allow Analysis: null
Allow Compute TiePoints: false
Supports Statistics: false
Supports Advanced Queries: false
Use StandardizedQueries: true
Raster Type Infos:
Name: Raster Dataset
Description: Supports all ArcGIS Raster Datasets
Help:
Has Raster Attribute Table: false
Edit Fields Info: null
Ownership Based AccessControl For Rasters: null
Child Resources:
Info
Key Properties
Legend
Raster Function Infos
Supported Operations:
Export Image
Identify
Measure
Compute Histograms
Compute Statistics Histograms
Get Samples
Compute Class Statistics
Query Boundary
Compute Pixel Location
Compute Angles
Validate
Project