View In:
ArcGIS JavaScript
ArcGIS Online Map Viewer
ArcGIS Earth
ArcMap
View Footprint In:
ArcGIS Online Map Viewer
Service Description: NRCS imagery from the spring of 1976.
Name: AirPhoto/WinnebagoCo1976
Description: NRCS imagery from the spring of 1976.
Single Fused Map Cache: false
Extent:
XMin: 696801.967994079
YMin: 415422.9072662483
XMax: 846985.3946607455
YMax: 572627.3172662482
Spatial Reference: 103470
(103470)
LatestVCSWkid(0)
Initial Extent:
XMin: 696801.967994079
YMin: 415422.9072662483
XMax: 846985.3946607455
YMax: 572627.3172662482
Spatial Reference: 103470
(103470)
LatestVCSWkid(0)
Full Extent:
XMin: 696801.967994079
YMin: 415422.9072662483
XMax: 846985.3946607455
YMax: 572627.3172662482
Spatial Reference: 103470
(103470)
LatestVCSWkid(0)
Pixel Size X: 3.28083333333333
Pixel Size Y: 3.28083333333333
Band Count: 3
Pixel Type: U8
RasterFunction Infos: {"rasterFunctionInfos": [{
"name": "None",
"description": "",
"help": ""
}]}
Mensuration Capabilities: Basic
Has Histograms: false
Has Colormap: false
Has Multi Dimensions : false
Rendering Rule:
Min Scale: 0
Max Scale: 0
Copyright Text: NRCS Spring, 1976
Service Data Type: esriImageServiceDataTypeRGB
Min Values: N/A
Max Values: N/A
Mean Values: N/A
Standard Deviation Values: N/A
Object ID Field:
Fields:
None
Default Mosaic Method: Center
Allowed Mosaic Methods:
SortField:
SortValue: null
Mosaic Operator: First
Default Compression Quality: 75
Default Resampling Method: Bilinear
Max Record Count: null
Max Image Height: 4100
Max Image Width: 15000
Max Download Image Count: null
Max Mosaic Image Count: null
Allow Raster Function: true
Allow Copy: null
Allow Analysis: null
Allow Compute TiePoints: false
Supports Statistics: false
Supports Advanced Queries: false
Use StandardizedQueries: true
Raster Type Infos:
Name: Raster Dataset
Description: Supports all ArcGIS Raster Datasets
Help:
Has Raster Attribute Table: false
Edit Fields Info: null
Ownership Based AccessControl For Rasters: null
Child Resources:
Info
Key Properties
Legend
Raster Function Infos
Supported Operations:
Export Image
Identify
Measure
Compute Histograms
Compute Statistics Histograms
Get Samples
Compute Class Statistics
Query Boundary
Compute Pixel Location
Compute Angles
Validate
Project