View In:
ArcGIS JavaScript
ArcGIS Online Map Viewer
ArcGIS Earth
ArcMap
View Footprint In:
ArcGIS Online Map Viewer
Service Description: 2000 Digital Color Orthophotography for Winnebago County, Wisconsin. This was derived from the 2000 aerial photography. Aerometric Engineering, Inc. was contracted in the spring of March, 2000 to fly within Winnebago County, WI and capture orthophotography, create color 1 foot pixel digital raster images and deliver in MrSid and TIF format all of the raster images for the WINGS Project.
Name: AirPhoto/WinnebagoCo2000
Description: 2000 Digital Color Orthophotography for Winnebago County, Wisconsin. This was derived from the 2000 aerial photography. Aerometric Engineering, Inc. was contracted in the spring of March, 2000 to fly within Winnebago County, WI and capture orthophotography, create color 1 foot pixel digital raster images and deliver in MrSid and TIF format all of the raster images for the WINGS Project.
Single Fused Map Cache: false
Extent:
XMin: 2260220.0
YMin: 692700.0
XMax: 2387300.0
YMax: 822120.0
Spatial Reference: 102754
(2289)
LatestVCSWkid(0)
Initial Extent:
XMin: 2260220.0
YMin: 692700.0
XMax: 2387300.0
YMax: 822120.0
Spatial Reference: 102754
(2289)
LatestVCSWkid(0)
Full Extent:
XMin: 2260220.0
YMin: 692700.0
XMax: 2387300.0
YMax: 822120.0
Spatial Reference: 102754
(2289)
LatestVCSWkid(0)
Pixel Size X: 1.0
Pixel Size Y: 1.0
Band Count: 3
Pixel Type: U8
RasterFunction Infos: {"rasterFunctionInfos": [{
"name": "None",
"description": "",
"help": ""
}]}
Mensuration Capabilities: Basic
Has Histograms: false
Has Colormap: false
Has Multi Dimensions : false
Rendering Rule:
Min Scale: 0
Max Scale: 0
Copyright Text: Imagery Date: March, 2000
Service Data Type: esriImageServiceDataTypeRGB
Min Values: N/A
Max Values: N/A
Mean Values: N/A
Standard Deviation Values: N/A
Object ID Field:
Fields:
None
Default Mosaic Method: Center
Allowed Mosaic Methods:
SortField:
SortValue: null
Mosaic Operator: First
Default Compression Quality: 75
Default Resampling Method: Bilinear
Max Record Count: null
Max Image Height: 4100
Max Image Width: 15000
Max Download Image Count: null
Max Mosaic Image Count: null
Allow Raster Function: true
Allow Copy: null
Allow Analysis: null
Allow Compute TiePoints: false
Supports Statistics: false
Supports Advanced Queries: false
Use StandardizedQueries: true
Raster Type Infos:
Name: Raster Dataset
Description: Supports all ArcGIS Raster Datasets
Help:
Has Raster Attribute Table: false
Edit Fields Info: null
Ownership Based AccessControl For Rasters: null
Child Resources:
Info
Key Properties
Legend
Raster Function Infos
Supported Operations:
Export Image
Identify
Measure
Compute Histograms
Compute Statistics Histograms
Get Samples
Compute Class Statistics
Query Boundary
Compute Pixel Location
Compute Angles
Validate
Project