View In:
ArcGIS JavaScript
ArcGIS Online Map Viewer
ArcGIS Earth
ArcMap
View Footprint In:
ArcGIS Online Map Viewer
Service Description: This photo covers most of the most of the urbanized part of Winnebago County. This service was downgrade to a 6 in pixel resolution. Please see use constraints.
Name: AirPhoto/WinnebagoCo2023
Description: This photo covers most of the most of the urbanized part of Winnebago County. This service was downgrade to a 6 in pixel resolution. Please see use constraints.
Single Fused Map Cache: false
Extent:
XMin: 721516.6912964936
YMin: 433124.8500018042
XMax: 839790.9412964936
YMax: 560724.6000018042
Spatial Reference: 0
(0)
LatestVCSWkid(0)
Initial Extent:
XMin: 721516.6912964936
YMin: 433124.8500018042
XMax: 839790.9412964936
YMax: 560724.6000018042
Spatial Reference: 0
(0)
LatestVCSWkid(0)
Full Extent:
XMin: 721516.6912964936
YMin: 433124.8500018042
XMax: 839790.9412964936
YMax: 560724.6000018042
Spatial Reference: 0
(0)
LatestVCSWkid(0)
Pixel Size X: 0.25
Pixel Size Y: 0.25
Band Count: 3
Pixel Type: U8
RasterFunction Infos: {"rasterFunctionInfos": [{
"name": "None",
"description": "",
"help": ""
}]}
Mensuration Capabilities: Basic
Has Histograms: false
Has Colormap: false
Has Multi Dimensions : false
Rendering Rule:
Min Scale: 0
Max Scale: 0
Copyright Text: Nearmap
Service Data Type: esriImageServiceDataTypeRGB
Min Values: N/A
Max Values: N/A
Mean Values: N/A
Standard Deviation Values: N/A
Object ID Field:
Fields:
None
Default Mosaic Method: Center
Allowed Mosaic Methods:
SortField:
SortValue: null
Mosaic Operator: First
Default Compression Quality: 75
Default Resampling Method: Bilinear
Max Record Count: null
Max Image Height: 4100
Max Image Width: 15000
Max Download Image Count: null
Max Mosaic Image Count: null
Allow Raster Function: true
Allow Copy: null
Allow Analysis: null
Allow Compute TiePoints: false
Supports Statistics: false
Supports Advanced Queries: false
Use StandardizedQueries: true
Raster Type Infos:
Name: Raster Dataset
Description: Supports all ArcGIS Raster Datasets
Help:
Has Raster Attribute Table: false
Edit Fields Info: null
Ownership Based AccessControl For Rasters: null
Child Resources:
Info
Key Properties
Legend
Raster Function Infos
Supported Operations:
Export Image
Identify
Measure
Compute Histograms
Compute Statistics Histograms
Get Samples
Compute Class Statistics
Query Boundary
Compute Pixel Location
Compute Angles
Validate
Project