View In:
ArcGIS JavaScript
ArcGIS Online Map Viewer
ArcGIS Earth
ArcMap
View Footprint In:
ArcGIS Online Map Viewer
Service Description: WinnebagoCo2025
Name: WinnebagoCo2025
Description:
Single Fused Map Cache: false
Extent:
XMin: 701310.0
YMin: 427870.25
XMax: 839319.75
YMax: 558540.0
Spatial Reference: 103470
(103470)
LatestVCSWkid(0)
Initial Extent:
XMin: 701310.0
YMin: 427870.25
XMax: 839319.75
YMax: 558540.0
Spatial Reference: 103470
(103470)
LatestVCSWkid(0)
Full Extent:
XMin: 701310.0
YMin: 427870.25
XMax: 839319.75
YMax: 558540.0
Spatial Reference: 103470
(103470)
LatestVCSWkid(0)
Pixel Size X: 0.25
Pixel Size Y: 0.25
Band Count: 5
Pixel Type: U8
RasterFunction Infos: {"rasterFunctionInfos": [{
"name": "None",
"description": "",
"help": ""
}]}
Mensuration Capabilities: Basic
Has Histograms: true
Has Colormap: false
Has Multi Dimensions : false
Rendering Rule:
Min Scale: 0
Max Scale: 0
Copyright Text:
Service Data Type: esriImageServiceDataTypeGeneric
Min Values: 1, 1, 1, 1, 1
Max Values: 255, 255, 255, 255, 255
Mean Values: 112.85085650185, 110.03899743342, 97.714339103807, 127.27597024279, 254.94150312514
Standard Deviation Values: 49.222118660992, 44.048783029001, 40.492527654903, 54.653490121201, 3.6232387387347
Object ID Field:
Fields:
None
Default Mosaic Method: Center
Allowed Mosaic Methods:
SortField:
SortValue: null
Mosaic Operator: First
Default Compression Quality: 75
Default Resampling Method: Bilinear
Max Record Count: null
Max Image Height: 4100
Max Image Width: 15000
Max Download Image Count: null
Max Mosaic Image Count: null
Allow Raster Function: true
Allow Copy: true
Allow Analysis: true
Allow Compute TiePoints: false
Supports Statistics: false
Supports Advanced Queries: false
Use StandardizedQueries: true
Raster Type Infos:
Name: Raster Dataset
Description: Supports all ArcGIS Raster Datasets
Help:
Has Raster Attribute Table: false
Edit Fields Info: null
Ownership Based AccessControl For Rasters: null
Child Resources:
Info
Histograms
Statistics
Key Properties
Legend
Raster Function Infos
Supported Operations:
Export Image
Identify
Measure
Compute Histograms
Compute Statistics Histograms
Get Samples
Compute Class Statistics
Query Boundary
Compute Pixel Location
Compute Angles
Validate
Project